BEGIN:VCALENDAR
VERSION:2.0
PRODID:-//TYPO3/NONSGML Calendarize//EN
BEGIN:VEVENT
UID:calendarize-ortsbeirat-rodemann-1-sitzung
DTSTAMP:20260425T144331Z
DTSTART:20260426T160000Z
SUMMARY: Ortsbeirat Rodemann\, 1. Sitzung
DESCRIPTION:Tagesordnung\n 	 		 			1. 			Eröffnung und Begrüßung 			  
 			  		 		 			2. 			Feststellung der Ordnungsmäßigkeit der Einladung un
 d der Beschlussfähigkeit 			  			  		 		 			3. 			Wahl der Ortsvorstehe
 rin / des Ortsvorstehers 			  			  		 		 			4. 			Übergabe der Sitzungs
 leitung an den neu gewählten Ortsvorsteher 			  			  		 		 			5. 			Wah
 l eines Stellvertreters der Ortsvorsteherin / des Ortsvorstehers 			  			
   		 		 			6. 			Wahl der Schriftführerin / des Schriftführer 			  			
   		 		 			7. 			Wahl eines Stellvertreters der Schriftführerin / des Sc
 hriftführers 			  			  		 		 			8. 			Verschiedenes 		 	 \n\nQuelle: h
 ttps://rim.ekom21.de/homberg-efze/tops/?__=UGhVM0hpd2NXNFdFcExjZYPtcUEmU0Z
 MukXSkLIc-Ao
X-ALT-DESC;FMTTYPE=text/html:<h1 class="heading">Tagesordnung</h1>\n<table
  class="table-cols-4 table-data table-top"> 	<tbody> 		<tr class="ebene1-1
  original row-1 top-oeff-data"> 			<td class="column-topnrtext">1.</td> 		
 	<td class="column-bezeichnung">Eröffnung und Begrüßung</td> 			<td cla
 ss="column-nummer">&nbsp\;</td> 			<td class="column-dokumente">&nbsp\;</t
 d> 		</tr> 		<tr class="ebene1-2 original row-0 top-oeff-data"> 			<td cla
 ss="column-topnrtext">2.</td> 			<td class="column-bezeichnung">Feststellu
 ng der Ordnungsmäßigkeit der Einladung und der Beschlussfähigkeit</td> 
 			<td class="column-nummer">&nbsp\;</td> 			<td class="column-dokumente">
 &nbsp\;</td> 		</tr> 		<tr class="ebene1-3 original row-1 top-oeff-data"> 
 			<td class="column-topnrtext">3.</td> 			<td class="column-bezeichnung">
 Wahl der Ortsvorsteherin / des Ortsvorstehers</td> 			<td class="column-nu
 mmer">&nbsp\;</td> 			<td class="column-dokumente">&nbsp\;</td> 		</tr> 		
 <tr class="ebene1-4 original row-0 top-oeff-data"> 			<td class="column-to
 pnrtext">4.</td> 			<td class="column-bezeichnung">Übergabe der Sitzungsl
 eitung an den neu gewählten Ortsvorsteher</td> 			<td class="column-numme
 r">&nbsp\;</td> 			<td class="column-dokumente">&nbsp\;</td> 		</tr> 		<tr
  class="ebene1-5 original row-1 top-oeff-data"> 			<td class="column-topnr
 text">5.</td> 			<td class="column-bezeichnung">Wahl eines Stellvertreters
  der Ortsvorsteherin / des Ortsvorstehers</td> 			<td class="column-nummer
 ">&nbsp\;</td> 			<td class="column-dokumente">&nbsp\;</td> 		</tr> 		<tr 
 class="ebene1-6 original row-0 top-oeff-data"> 			<td class="column-topnrt
 ext">6.</td> 			<td class="column-bezeichnung">Wahl der Schriftführerin /
  des Schriftführer</td> 			<td class="column-nummer">&nbsp\;</td> 			<td 
 class="column-dokumente">&nbsp\;</td> 		</tr> 		<tr class="ebene1-7 origin
 al row-1 top-oeff-data"> 			<td class="column-topnrtext">7.</td> 			<td cl
 ass="column-bezeichnung">Wahl eines Stellvertreters der Schriftführerin /
  des Schriftführers</td> 			<td class="column-nummer">&nbsp\;</td> 			<td
  class="column-dokumente">&nbsp\;</td> 		</tr> 		<tr class="ebene1-8 origi
 nal row-0 top-oeff-data"> 			<td class="column-topnrtext">8.</td> 			<td c
 lass="column-bezeichnung">Verschiedenes</td> 		</tr> 	</tbody> </table>\n\
 n<p>Quelle:&nbsp\;<a href="https://rim.ekom21.de/homberg-efze/tops/?__=UGh
 VM0hpd2NXNFdFcExjZYPtcUEmU0ZMukXSkLIc-Ao">https://rim.ekom21.de/homberg-ef
 ze/tops/?__=UGhVM0hpd2NXNFdFcExjZYPtcUEmU0ZMukXSkLIc-Ao</a></p>
LOCATION:Vereinsheim Rodemann 34576 Homberg (Efze) Besprechungsraum
END:VEVENT
END:VCALENDAR
