BEGIN:VCALENDAR
VERSION:2.0
PRODID:-//TYPO3/NONSGML Calendarize//EN
BEGIN:VEVENT
UID:calendarize-ortsbeirat-moershausen-1-sitzung
DTSTAMP:20260425T144418Z
DTSTART:20260427T170000Z
SUMMARY: Ortsbeirat Mörshausen\, 1. Sitzung
DESCRIPTION:Tagesordnungspunkte\n 	 		 			. 			Begrüßung und Feststellun
 g der Ordnungsmäßigkeit der Einladung und der Beschlussfähigkeit 			  
 			  		 		 			2. 			Wahl der Ortsvorsteherin / des Ortsvorstehers 			  	
 		  		 		 			3. 			Wahl der Stellvertretung der Ortsvorsteherin / des Ort
 svorstehers 			  			  		 		 			4. 			Wahl der Schriftführung 			  			 
  		 		 			5. 			Verschiedenes 		 	 \n\nQuelle: https://rim.ekom21.de/homb
 erg-efze/tops/?__=UGhVM0hpd2NXNFdFcExjZbFTxzpuZI83RXUQYvPoOxw
X-ALT-DESC;FMTTYPE=text/html:<h2>Tagesordnungspunkte</h2>\n<table class="t
 able-cols-4 table-data table-top"> 	<tbody> 		<tr class="ebene1-1 original
  row-1 top-oeff-data"> 			<td class="column-topnrtext">.</td> 			<td class
 ="column-bezeichnung">Begrüßung und Feststellung der Ordnungsmäßigkeit
  der Einladung und der Beschlussfähigkeit</td> 			<td class="column-numme
 r">&nbsp\;</td> 			<td class="column-dokumente">&nbsp\;</td> 		</tr> 		<tr
  class="ebene1-2 original row-0 top-oeff-data"> 			<td class="column-topnr
 text">2.</td> 			<td class="column-bezeichnung">Wahl der Ortsvorsteherin /
  des Ortsvorstehers</td> 			<td class="column-nummer">&nbsp\;</td> 			<td 
 class="column-dokumente">&nbsp\;</td> 		</tr> 		<tr class="ebene1-3 origin
 al row-1 top-oeff-data"> 			<td class="column-topnrtext">3.</td> 			<td cl
 ass="column-bezeichnung">Wahl der Stellvertretung der Ortsvorsteherin / de
 s Ortsvorstehers</td> 			<td class="column-nummer">&nbsp\;</td> 			<td cla
 ss="column-dokumente">&nbsp\;</td> 		</tr> 		<tr class="ebene1-4 original 
 row-0 top-oeff-data"> 			<td class="column-topnrtext">4.</td> 			<td class
 ="column-bezeichnung">Wahl der Schriftführung</td> 			<td class="column-n
 ummer">&nbsp\;</td> 			<td class="column-dokumente">&nbsp\;</td> 		</tr> 	
 	<tr class="ebene1-5 original row-1 top-oeff-data"> 			<td class="column-t
 opnrtext">5.</td> 			<td class="column-bezeichnung">Verschiedenes</td> 		<
 /tr> 	</tbody> </table>\n\n<p>Quelle:&nbsp\;<a href="https://rim.ekom21.de
 /homberg-efze/tops/?__=UGhVM0hpd2NXNFdFcExjZbFTxzpuZI83RXUQYvPoOxw">https:
 //rim.ekom21.de/homberg-efze/tops/?__=UGhVM0hpd2NXNFdFcExjZbFTxzpuZI83RXUQ
 YvPoOxw</a></p>
LOCATION:Dorfgemeinschaftshaus Mörshausen 34576 Homberg (Efze) Besprechun
 gsraum
END:VEVENT
END:VCALENDAR
