BEGIN:VCALENDAR
VERSION:2.0
PRODID:-//TYPO3/NONSGML Calendarize//EN
BEGIN:VEVENT
UID:calendarize-jugendbeteiligungsprozess-jugendbeteiligungswerkstatt-am-2
 942026-zur-umgestaltung-der-efzewiesen
DTSTAMP:20260420T163008Z
DTSTART:20260429T140000Z
DTEND:20260429T170000Z
SUMMARY:Jugendbeteiligungsprozess & Jugendbeteiligungswerkstatt am 29.4.20
 26 zur Umgestaltung der Efzewiesen der Stadt Homberg (Efze)
DESCRIPTION:Die Efzewiesen in Homberg (Efze) sollen weiterentwickelt werde
 n. Dafür hat der Magistrat der Stadt den Fachdienst Jugend damit beauftra
 gt\, junge Menschen zu befragen\, welche Nutzungs- und Gestaltungsideen si
 e für die Efzewiesen haben.   In einem mehrschrittigen Prozess werden d
 iese Ideen gesammelt und von jungen Menschen selbst priorisiert. \n14. Ap
 ril 2026  von Uwe Dittmer (Stadt Homberg (Efze)\nTermin Jugendbeteiligung
 swerkstatt: \n29.4.2026 16-19 Uhr\, Efzewiesen (Skateplatz)\, für alle vo
 n 10 bis 21 Jahren\nInfotelefon: 05681 994-222\nE-Mail: stadtjugendpflege@
 homberg-efze.de\n \nWeitere Informationen:\nhttps://www.homberg-efze.de/r
 athaus-politik/aktuelles/nachrichten/2026/april/jugendbeteiligung-efzewies
 en/\n \nQuelle: https://www.homberg-efze.de/rathaus-politik\n\n
X-ALT-DESC;FMTTYPE=text/html:<p class="article-teaser-text id-text">Die Ef
 zewiesen in Homberg (Efze) sollen weiterentwickelt werden. Dafür hat der 
 Magistrat der Stadt den Fachdienst Jugend damit beauftragt\, junge Mensche
 n zu befragen\, welche Nutzungs- und Gestaltungsideen sie für die Efzewie
 sen haben.&nbsp\;&nbsp\;<br /> In einem mehrschrittigen Prozess werden die
 se Ideen gesammelt und von jungen Menschen selbst priorisiert.&nbsp\;</p>\
 n<p>14. April 2026 &nbsp\;von Uwe Dittmer (Stadt Homberg (Efze)</p>\n<p cl
 ass="paragraph"><strong>Termin Jugendbeteiligungswerkstatt: </strong></p>\
 n<p class="paragraph">29.4.2026 16-19 Uhr\, Efzewiesen (Skateplatz)\, für
  alle von 10 bis 21 Jahren</p>\n<p class="paragraph"><strong>Infotelefon: 
 </strong>05681 994-222</p>\n<p class="paragraph"><strong>E-Mail: </strong>
 <a href="mailto:stadtjugendpflege@homberg-efze.de">stadtjugendpflege@hombe
 rg-efze.de</a></p>\n<p class="paragraph">&nbsp\;</p>\n<p class="paragraph"
 >Weitere Informationen:</p>\n<p class="paragraph"><a href="https://www.hom
 berg-efze.de/rathaus-politik/aktuelles/nachrichten/2026/april/jugendbeteil
 igung-efzewiesen/">https://www.homberg-efze.de/rathaus-politik/aktuelles/n
 achrichten/2026/april/jugendbeteiligung-efzewiesen/</a></p>\n<p class="par
 agraph">&nbsp\;</p>\n<p class="paragraph">Quelle:&nbsp\;<a href="https://w
 ww.homberg-efze.de/rathaus-politik">https://www.homberg-efze.de/rathaus-po
 litik</a></p>\n\n
LOCATION:
END:VEVENT
END:VCALENDAR
