BEGIN:VCALENDAR
VERSION:2.0
PRODID:-//TYPO3/NONSGML Calendarize//EN
BEGIN:VEVENT
UID:calendarize-stadtverordnetenversammlung-der-reformationsstadt-homberg-
 efze-1-sitzung
DTSTAMP:20260425T181156Z
DTSTART:20260429T170000Z
DTEND:20260429T200000Z
SUMMARY: 	Stadtverordnetenversammlung der Reformationsstadt Homberg (Efze)
 \, 1. Sitzung
DESCRIPTION:B E K A N N T M A C H U N G zur 1. Sitzung der Stadtverordnete
 nversammlung der Reformationsstadt Homberg (Efze) am Mittwoch\, den 29.04.
 2026\, 19:00 Uhr in den Saal der Stadthalle\, Ziegenhainer Straße 19 a\, 
 34576 Homberg (Efze)\nTagesordnung\n 	 		 			-I- 			öffentliche Sitzung 	
 		  			  		 		 			1. 			Begrüßung und Feststellung der Ordnungsmäßig
 keit der Einladung und der Beschlussfähigkeit 			  			  		 		 			2. 			
 Feststellung des Mitglieds\, das am längsten ununterbrochen der Stadtvero
 rdnetenversammlung angehört sowie Übergabe der Sitzungsleitung 			  			
   		 		 			2.1 			Feststellung des Mitglieds\, das am längsten ununterbr
 ochen der Stadtverordnetenversammlung angehört\, sowie Übergabe der Sitz
 ungsleitung 			SB-8/2026 			  		 		 			3. 			Wahl der/des Vorsitzenden de
 r Stadtverordnetenversammlung 			a) Benennung eines Wahlausschusses 			b) 
 Durchführung der Wahl 			  			  		 		 			3.1 			Wahl der/des Vorsitzend
 en der Stadtverordnetenversammlung 			VL-59/2026 			  		 		 			4. 			Wahl
  der stellvertretenden Vorsitzenden der Stadtverordnetenversammlung 			  
 			  		 		 			4.1 			Wahl der stellvertretenden Vorsitzenden der Stadtver
 ordnetenversammlung 			VL-60/2026 			  		 		 			5. 			Wahl einer Schriftf
 ührerin / eines Schriftführers und zweier Stellvertreterinnen / Stellver
 treter 			  			  		 		 			5.1 			Wahl einer Schriftführerin / eines Sch
 riftführers und dreier Stellvertreterinnen / Stellvertreter 			VL-61/2026
  			  		 		 			6. 			Bürgermeisterwahl am 15.03.2026 – Beschlussfassun
 g über die Gültigkeit der Wahl 			  			  		 		 			6.1 			Bürgermeiste
 rwahl am 15.03.2026 – Beschlussfassung über die Gültigkeit der Wahl 		
 	VL-62/2026 			  		 		 			7. 			Kommunalwahl am 15.03.2026 – Beschlussf
 assung über die Gültigkeit der Wahl zur Stadtverordnetenversammlung 			 
  			  		 		 			7.1 			Kommunalwahl am 15.03.2026 – Beschlussfassung üb
 er die Gültigkeit der Wahl zur Stadtverordnetenversammlung 			VL-63/2026 
 			  		 		 			8. 			Kommunalwahl am 15.03.2026 – Beschlussfassung über
  die Gültigkeit der Wahl der Ortsbeiräte 			  			  		 		 			8.1 			Kom
 munalwahl am 15.03.2026 – Beschlussfassung über die Gültigkeit der Wah
 l der Ortsbeiräte 			VL-64/2026 			  		 		 			9. 			Beratung und Beschlu
 ssfassung über mögliche Änderungen der Hauptsatzung der Kreisstadt Homb
 erg (Efze) 			  			  		 		 			9.1 			Beratung und Beschlussfassung über
  mögliche Änderungen der Hauptsatzung der Kreisstadt Homberg (Efze) 			V
 L-69/2026 			  		 		 			10. 			Beratung und Beschlussfassung über mögli
 che Änderungen der Geschäftsordnung für die Stadtverordnetenversammlung
  und die Ausschüsse der Kreisstadt Homberg (Efze) 			  			  		 		 			10
 .1 			Beratung und Beschlussfassung über mögliche Änderungen der Geschä
 ftsordnung für die Stadtverordnetenversammlung und die Ausschüsse der Kr
 eisstadt Homberg (Efze) 			VL-66/2026 			  		 		 			11. 			Bildung und Be
 setzung der Ausschüsse der Stadtverordnetenversammlung 			a.Beschluss üb
 er das Benennungsverfahren für die Zusammensetzung der Ausschüsse 			b.D
 urchführung der Wahlen 			  			  		 		 			11.1 			Bildung und Besetzung
  der Ausschüsse der Stadtverordnetenversammlung 			VL-67/2026 			  		 		
  			12. 			Beratung und Beschlussfassung über die Fortführung und Besetz
 ung bestehender Arbeitsgruppen und Steuerungsgruppen 			  			  		 		 			
 12.1 			Beratung und Beschlussfassung über die Fortführung und Besetzung
  bestehender Arbeitsgruppen und Steuerungsgruppen 			VL-58/2026 			  		 	
 	 			13. 			Haushalt 2026 			Hier: Beitrittsbeschluss zur Genehmigungsverf
 ügung der Haushaltssatzung 2026 durch die Kommunalaufsichtsbehörde 			 
  			  		 		 			13.1 			Haushalt 2026 			Hier: Beitrittsbeschluss zur Gene
 hmigungsverfügung der Haushaltssatzung 2026 durch die Kommunalaufsichtsbe
 hörde 			VL-203/2025 6. Ergänzung 			  		 		 			14. 			Sachstandsberich
 te und sonstige Informationen 			  			  		 		 			15. 			Anregungen 			 
  			  		 		 			16. 			Wahl der ehrenamtlichen Mitglieder des Magistrats 	
 		  			  		 		 			16.1 			Wahl der ehrenamtlichen Mitglieder des Magistr
 ats 			VL-68/2026 			  		 		 			17. 			Einführung und Verpflichtung der 
 Stadträtinnen und Stadträte 		 	 \n► Tagesordnung: https://rim.ekom21
 .de/homberg-efze/
X-ALT-DESC;FMTTYPE=text/html:<p>B E K A N N T M A C H U N G zur 1. Sitzung
  der Stadtverordnetenversammlung der Reformationsstadt Homberg (Efze) am M
 ittwoch\, den 29.04.2026\, 19:00 Uhr in den Saal der Stadthalle\, Ziegenha
 iner Straße 19 a\, 34576 Homberg (Efze)</p>\n<h1 class="heading">Tagesord
 nung</h1>\n<table class="table-cols-4 table-data table-top"> 	<tbody> 		<t
 r class="ebene1-0 original row-1 top-oeff-head"> 			<td class="column-topn
 rtext">-I-</td> 			<td class="column-bezeichnung">öffentliche Sitzung</td
 > 			<td class="column-nummer">&nbsp\;</td> 			<td class="column-dokumente
 ">&nbsp\;</td> 		</tr> 		<tr class="ebene1-1 original row-0 top-oeff-data"
 > 			<td class="column-topnrtext">1.</td> 			<td class="column-bezeichnung
 ">Begrüßung und Feststellung der Ordnungsmäßigkeit der Einladung und d
 er Beschlussfähigkeit</td> 			<td class="column-nummer">&nbsp\;</td> 			<
 td class="column-dokumente">&nbsp\;</td> 		</tr> 		<tr class="ebene1-2 ori
 ginal row-1 top-oeff-data"> 			<td class="column-topnrtext">2.</td> 			<td
  class="column-bezeichnung">Feststellung des Mitglieds\, das am längsten 
 ununterbrochen der Stadtverordnetenversammlung angehört sowie Übergabe d
 er Sitzungsleitung</td> 			<td class="column-nummer">&nbsp\;</td> 			<td c
 lass="column-dokumente">&nbsp\;</td> 		</tr> 		<tr class="ebene1-2 origina
 l row-0 top-oeff-data"> 			<td class="column-topnrtext">2.1</td> 			<td cl
 ass="column-bezeichnung">Feststellung des Mitglieds\, das am längsten unu
 nterbrochen der Stadtverordnetenversammlung angehört\, sowie Übergabe de
 r Sitzungsleitung</td> 			<td class="column-nummer">SB-8/2026</td> 			<td 
 class="column-dokumente">&nbsp\;</td> 		</tr> 		<tr class="ebene1-3 origin
 al row-1 top-oeff-data"> 			<td class="column-topnrtext">3.</td> 			<td cl
 ass="column-bezeichnung">Wahl der/des Vorsitzenden der Stadtverordnetenver
 sammlung<br /> 			a) Benennung eines Wahlausschusses<br /> 			b) Durchfüh
 rung der Wahl</td> 			<td class="column-nummer">&nbsp\;</td> 			<td class=
 "column-dokumente">&nbsp\;</td> 		</tr> 		<tr class="ebene1-3 original row
 -0 top-oeff-data"> 			<td class="column-topnrtext">3.1</td> 			<td class="
 column-bezeichnung">Wahl der/des Vorsitzenden der Stadtverordnetenversamml
 ung</td> 			<td class="column-nummer">VL-59/2026</td> 			<td class="column
 -dokumente">&nbsp\;</td> 		</tr> 		<tr class="ebene1-4 original row-1 top-
 oeff-data"> 			<td class="column-topnrtext">4.</td> 			<td class="column-b
 ezeichnung">Wahl der stellvertretenden Vorsitzenden der Stadtverordnetenve
 rsammlung</td> 			<td class="column-nummer">&nbsp\;</td> 			<td class="col
 umn-dokumente">&nbsp\;</td> 		</tr> 		<tr class="ebene1-4 original row-0 t
 op-oeff-data"> 			<td class="column-topnrtext">4.1</td> 			<td class="colu
 mn-bezeichnung">Wahl der stellvertretenden Vorsitzenden der Stadtverordnet
 enversammlung</td> 			<td class="column-nummer">VL-60/2026</td> 			<td cla
 ss="column-dokumente">&nbsp\;</td> 		</tr> 		<tr class="ebene1-5 original 
 row-1 top-oeff-data"> 			<td class="column-topnrtext">5.</td> 			<td class
 ="column-bezeichnung">Wahl einer Schriftführerin / eines Schriftführers 
 und zweier Stellvertreterinnen / Stellvertreter</td> 			<td class="column-
 nummer">&nbsp\;</td> 			<td class="column-dokumente">&nbsp\;</td> 		</tr> 
 		<tr class="ebene1-5 original row-0 top-oeff-data"> 			<td class="column-
 topnrtext">5.1</td> 			<td class="column-bezeichnung">Wahl einer Schriftfü
 hrerin / eines Schriftführers und dreier Stellvertreterinnen / Stellvertr
 eter</td> 			<td class="column-nummer">VL-61/2026</td> 			<td class="colum
 n-dokumente">&nbsp\;</td> 		</tr> 		<tr class="ebene1-6 original row-1 top
 -oeff-data"> 			<td class="column-topnrtext">6.</td> 			<td class="column-
 bezeichnung">Bürgermeisterwahl am 15.03.2026 – Beschlussfassung über d
 ie Gültigkeit der Wahl</td> 			<td class="column-nummer">&nbsp\;</td> 			
 <td class="column-dokumente">&nbsp\;</td> 		</tr> 		<tr class="ebene1-6 or
 iginal row-0 top-oeff-data"> 			<td class="column-topnrtext">6.1</td> 			<
 td class="column-bezeichnung">Bürgermeisterwahl am 15.03.2026 – Beschlu
 ssfassung über die Gültigkeit der Wahl</td> 			<td class="column-nummer"
 >VL-62/2026</td> 			<td class="column-dokumente">&nbsp\;</td> 		</tr> 		<t
 r class="ebene1-7 original row-1 top-oeff-data"> 			<td class="column-topn
 rtext">7.</td> 			<td class="column-bezeichnung">Kommunalwahl am 15.03.202
 6 – Beschlussfassung über die Gültigkeit der Wahl zur Stadtverordneten
 versammlung</td> 			<td class="column-nummer">&nbsp\;</td> 			<td class="c
 olumn-dokumente">&nbsp\;</td> 		</tr> 		<tr class="ebene1-7 original row-0
  top-oeff-data"> 			<td class="column-topnrtext">7.1</td> 			<td class="co
 lumn-bezeichnung">Kommunalwahl am 15.03.2026 – Beschlussfassung über di
 e Gültigkeit der Wahl zur Stadtverordnetenversammlung</td> 			<td class="
 column-nummer">VL-63/2026</td> 			<td class="column-dokumente">&nbsp\;</td
 > 		</tr> 		<tr class="ebene1-8 original row-1 top-oeff-data"> 			<td clas
 s="column-topnrtext">8.</td> 			<td class="column-bezeichnung">Kommunalwah
 l am 15.03.2026 – Beschlussfassung über die Gültigkeit der Wahl der Or
 tsbeiräte</td> 			<td class="column-nummer">&nbsp\;</td> 			<td class="co
 lumn-dokumente">&nbsp\;</td> 		</tr> 		<tr class="ebene1-8 original row-0 
 top-oeff-data"> 			<td class="column-topnrtext">8.1</td> 			<td class="col
 umn-bezeichnung">Kommunalwahl am 15.03.2026 – Beschlussfassung über die
  Gültigkeit der Wahl der Ortsbeiräte</td> 			<td class="column-nummer">V
 L-64/2026</td> 			<td class="column-dokumente">&nbsp\;</td> 		</tr> 		<tr 
 class="ebene1-9 original row-1 top-oeff-data"> 			<td class="column-topnrt
 ext">9.</td> 			<td class="column-bezeichnung">Beratung und Beschlussfassu
 ng über mögliche Änderungen der Hauptsatzung der Kreisstadt Homberg (Ef
 ze)</td> 			<td class="column-nummer">&nbsp\;</td> 			<td class="column-do
 kumente">&nbsp\;</td> 		</tr> 		<tr class="ebene1-9 original row-0 top-oef
 f-data"> 			<td class="column-topnrtext">9.1</td> 			<td class="column-bez
 eichnung">Beratung und Beschlussfassung über mögliche Änderungen der Ha
 uptsatzung der Kreisstadt Homberg (Efze)</td> 			<td class="column-nummer"
 >VL-69/2026</td> 			<td class="column-dokumente">&nbsp\;</td> 		</tr> 		<t
 r class="ebene1-10 original row-1 top-oeff-data"> 			<td class="column-top
 nrtext">10.</td> 			<td class="column-bezeichnung">Beratung und Beschlussf
 assung über mögliche Änderungen der Geschäftsordnung für die Stadtver
 ordnetenversammlung und die Ausschüsse der Kreisstadt Homberg (Efze)</td>
  			<td class="column-nummer">&nbsp\;</td> 			<td class="column-dokumente"
 >&nbsp\;</td> 		</tr> 		<tr class="ebene1-10 original row-0 top-oeff-data"
 > 			<td class="column-topnrtext">10.1</td> 			<td class="column-bezeichnu
 ng">Beratung und Beschlussfassung über mögliche Änderungen der Geschäf
 tsordnung für die Stadtverordnetenversammlung und die Ausschüsse der Kre
 isstadt Homberg (Efze)</td> 			<td class="column-nummer">VL-66/2026</td> 	
 		<td class="column-dokumente">&nbsp\;</td> 		</tr> 		<tr class="ebene1-11
  original row-1 top-oeff-data"> 			<td class="column-topnrtext">11.</td> 	
 		<td class="column-bezeichnung">Bildung und Besetzung der Ausschüsse der
  Stadtverordnetenversammlung<br /> 			a.Beschluss über das Benennungsverf
 ahren für die Zusammensetzung der Ausschüsse<br /> 			b.Durchführung de
 r Wahlen</td> 			<td class="column-nummer">&nbsp\;</td> 			<td class="colu
 mn-dokumente">&nbsp\;</td> 		</tr> 		<tr class="ebene1-11 original row-0 t
 op-oeff-data"> 			<td class="column-topnrtext">11.1</td> 			<td class="col
 umn-bezeichnung">Bildung und Besetzung der Ausschüsse der Stadtverordnete
 nversammlung</td> 			<td class="column-nummer">VL-67/2026</td> 			<td clas
 s="column-dokumente">&nbsp\;</td> 		</tr> 		<tr class="ebene1-12 original 
 row-1 top-oeff-data"> 			<td class="column-topnrtext">12.</td> 			<td clas
 s="column-bezeichnung">Beratung und Beschlussfassung über die Fortführun
 g und Besetzung bestehender Arbeitsgruppen und Steuerungsgruppen</td> 			<
 td class="column-nummer">&nbsp\;</td> 			<td class="column-dokumente">&nbs
 p\;</td> 		</tr> 		<tr class="ebene1-12 original row-0 top-oeff-data"> 			
 <td class="column-topnrtext">12.1</td> 			<td class="column-bezeichnung">B
 eratung und Beschlussfassung über die Fortführung und Besetzung bestehen
 der Arbeitsgruppen und Steuerungsgruppen</td> 			<td class="column-nummer"
 >VL-58/2026</td> 			<td class="column-dokumente">&nbsp\;</td> 		</tr> 		<t
 r class="ebene1-13 original row-1 top-oeff-data"> 			<td class="column-top
 nrtext">13.</td> 			<td class="column-bezeichnung">Haushalt 2026<br /> 			
 Hier: Beitrittsbeschluss zur Genehmigungsverfügung der Haushaltssatzung 2
 026 durch die Kommunalaufsichtsbehörde</td> 			<td class="column-nummer">
 &nbsp\;</td> 			<td class="column-dokumente">&nbsp\;</td> 		</tr> 		<tr cl
 ass="ebene1-13 original row-0 top-oeff-data"> 			<td class="column-topnrte
 xt">13.1</td> 			<td class="column-bezeichnung">Haushalt 2026<br /> 			Hie
 r: Beitrittsbeschluss zur Genehmigungsverfügung der Haushaltssatzung 2026
  durch die Kommunalaufsichtsbehörde</td> 			<td class="column-nummer">VL-
 203/2025 6. Ergänzung</td> 			<td class="column-dokumente">&nbsp\;</td> 	
 	</tr> 		<tr class="ebene1-14 original row-1 top-oeff-data"> 			<td class=
 "column-topnrtext">14.</td> 			<td class="column-bezeichnung">Sachstandsbe
 richte und sonstige Informationen</td> 			<td class="column-nummer">&nbsp\
 ;</td> 			<td class="column-dokumente">&nbsp\;</td> 		</tr> 		<tr class="e
 bene1-15 original row-0 top-oeff-data"> 			<td class="column-topnrtext">15
 .</td> 			<td class="column-bezeichnung">Anregungen</td> 			<td class="col
 umn-nummer">&nbsp\;</td> 			<td class="column-dokumente">&nbsp\;</td> 		</
 tr> 		<tr class="ebene1-16 original row-1 top-oeff-data"> 			<td class="co
 lumn-topnrtext">16.</td> 			<td class="column-bezeichnung">Wahl der ehrena
 mtlichen Mitglieder des Magistrats</td> 			<td class="column-nummer">&nbsp
 \;</td> 			<td class="column-dokumente">&nbsp\;</td> 		</tr> 		<tr class="
 ebene1-16 original row-0 top-oeff-data"> 			<td class="column-topnrtext">1
 6.1</td> 			<td class="column-bezeichnung">Wahl der ehrenamtlichen Mitglie
 der des Magistrats</td> 			<td class="column-nummer">VL-68/2026</td> 			<t
 d class="column-dokumente">&nbsp\;</td> 		</tr> 		<tr class="ebene1-17 ori
 ginal row-1 top-oeff-data"> 			<td class="column-topnrtext">17.</td> 			<t
 d class="column-bezeichnung">Einführung und Verpflichtung der Stadträtin
 nen und Stadträte</td> 		</tr> 	</tbody> </table>\n<p>► Tagesordnung:&n
 bsp\;<a class="external-link-new-window" href="https://rim.ekom21.de/hombe
 rg-efze/sdnetrim/UGhVM0hpd2NXNFdFcExjZT5VBj2QN0zU3qupDYDTnMXlL969dEj2rrzAs
 AKZX5i9/Bekanntmachung_Stadtverordnetenversammlung_der_Reformationsstadt_H
 omberg_-Efze-_29.04.2026.pdf" target="_blank" title="Link öffnen">https:/
 /rim.ekom21.de/homberg-efze/</a></p>
LOCATION:Stadthalle\, Ziegenhainer Straße 19 a\, 34576 Homberg (Efze)
END:VEVENT
END:VCALENDAR
