BEGIN:VCALENDAR
VERSION:2.0
PRODID:-//TYPO3/NONSGML Calendarize//EN
BEGIN:VEVENT
UID:calendarize-ortsbeirat-welferode-1-sitzung
DTSTAMP:20260425T181145Z
DTSTART:20260424T170000Z
SUMMARY: Ortsbeirat Welferode\, 1. Sitzung
DESCRIPTION:Tagesordnung\n 	 		 			1. 			Begrüßung und Feststellung der 
 Ordnungsmäßigkeit der Einladung und der Beschlussfähigkeit 			  			  
 		 		 			2. 			Wahl der Ortsvorsteherin / des Ortsvorstehers 			  			  	
 	 		 			3. 			Wahl der Stellvertretung der Ortsvorsteherin / des Ortsvorst
 ehers 			  			  		 		 			4. 			Wahl der Schriftführung 			  			  		 	
 	 			5. 			Wahl einer stellvertretenden Schriftführung 			  			  		 		 
 			6. 			Ausbau Bushaltestelle 			  			  		 		 			7. 			Verschiedenes 		
  	 \nQuelle: https://rim.ekom21.de/homberg-efze/tops/?__=UGhVM0hpd2NXNFdF
 cExjZapSJHtunTv2mN9cWaQHLhg
X-ALT-DESC;FMTTYPE=text/html:<h1 class="heading">Tagesordnung</h1>\n<table
  class="table-cols-4 table-data table-top"> 	<tbody> 		<tr class="ebene1-1
  original row-1 top-oeff-data"> 			<td class="column-topnrtext">1.</td> 		
 	<td class="column-bezeichnung">Begrüßung und Feststellung der Ordnungsm
 äßigkeit der Einladung und der Beschlussfähigkeit</td> 			<td class="co
 lumn-nummer">&nbsp\;</td> 			<td class="column-dokumente">&nbsp\;</td> 		<
 /tr> 		<tr class="ebene1-2 original row-0 top-oeff-data"> 			<td class="co
 lumn-topnrtext">2.</td> 			<td class="column-bezeichnung">Wahl der Ortsvor
 steherin / des Ortsvorstehers</td> 			<td class="column-nummer">&nbsp\;</t
 d> 			<td class="column-dokumente">&nbsp\;</td> 		</tr> 		<tr class="ebene
 1-3 original row-1 top-oeff-data"> 			<td class="column-topnrtext">3.</td>
  			<td class="column-bezeichnung">Wahl der Stellvertretung der Ortsvorste
 herin / des Ortsvorstehers</td> 			<td class="column-nummer">&nbsp\;</td> 
 			<td class="column-dokumente">&nbsp\;</td> 		</tr> 		<tr class="ebene1-4
  original row-0 top-oeff-data"> 			<td class="column-topnrtext">4.</td> 		
 	<td class="column-bezeichnung">Wahl der Schriftführung</td> 			<td class
 ="column-nummer">&nbsp\;</td> 			<td class="column-dokumente">&nbsp\;</td>
  		</tr> 		<tr class="ebene1-5 original row-1 top-oeff-data"> 			<td class
 ="column-topnrtext">5.</td> 			<td class="column-bezeichnung">Wahl einer s
 tellvertretenden Schriftführung</td> 			<td class="column-nummer">&nbsp\;
 </td> 			<td class="column-dokumente">&nbsp\;</td> 		</tr> 		<tr class="eb
 ene1-6 original row-0 top-oeff-data"> 			<td class="column-topnrtext">6.</
 td> 			<td class="column-bezeichnung">Ausbau Bushaltestelle</td> 			<td cl
 ass="column-nummer">&nbsp\;</td> 			<td class="column-dokumente">&nbsp\;</
 td> 		</tr> 		<tr class="ebene1-7 original row-1 top-oeff-data"> 			<td cl
 ass="column-topnrtext">7.</td> 			<td class="column-bezeichnung">Verschied
 enes</td> 		</tr> 	</tbody> </table>\n<p>Quelle:&nbsp\;<a href="https://ri
 m.ekom21.de/homberg-efze/tops/?__=UGhVM0hpd2NXNFdFcExjZapSJHtunTv2mN9cWaQH
 Lhg">https://rim.ekom21.de/homberg-efze/tops/?__=UGhVM0hpd2NXNFdFcExjZapSJ
 HtunTv2mN9cWaQHLhg</a></p>
LOCATION:Dorfgemeinschaftshaus Welferode 34576 Homberg (Efze) Besprechungs
 raum
END:VEVENT
END:VCALENDAR
