BEGIN:VCALENDAR
VERSION:2.0
PRODID:-//TYPO3/NONSGML Calendarize//EN
BEGIN:VEVENT
UID:calendarize-ortsbeirat-sondheim-1-sitzung
DTSTAMP:20260425T194211Z
DTSTART:20260504T170000Z
SUMMARY: Ortsbeirat Sondheim\, 1. Sitzung
DESCRIPTION:Tagesordnung\n 	 		 			. 			Feststellung der Ordnungsmäßigke
 it der Einladung und der Beschlussfähigkeit 			  			  		 		 			2. 			Wa
 hl der Ortsvorsteherin / des Ortsvorstehers 			  			  		 		 			3. 			Wah
 l der Stellvertretung der Ortsvorsteherin / des Ortsvorstehers 			  			 
  		 		 			4. 			Wahl der Schriftführung 			  			  		 		 			5. 			Wahl e
 iner stellvertretenden Schriftführung 			  			  		 		 			6. 			Beratung
  Vorschlag Jagdgenossen 			  			  		 		 			7. 			Termine 2026 			  			 
  		 		 			8. 			Verschiedenes 		 	 \n\nQuelle: https://rim.ekom21.de/homb
 erg-efze/tops/?__=UGhVM0hpd2NXNFdFcExjZZRF1q9MnzPxD-pWidUZgoE
X-ALT-DESC;FMTTYPE=text/html:<h1 class="heading">Tagesordnung</h1>\n<table
  class="table-cols-4 table-data table-top"> 	<tbody> 		<tr class="ebene1-1
  original row-1 top-oeff-data"> 			<td class="column-topnrtext">.</td> 			
 <td class="column-bezeichnung">Feststellung der Ordnungsmäßigkeit der Ei
 nladung und der Beschlussfähigkeit</td> 			<td class="column-nummer">&nbs
 p\;</td> 			<td class="column-dokumente">&nbsp\;</td> 		</tr> 		<tr class=
 "ebene1-2 original row-0 top-oeff-data"> 			<td class="column-topnrtext">2
 .</td> 			<td class="column-bezeichnung">Wahl der Ortsvorsteherin / des Or
 tsvorstehers</td> 			<td class="column-nummer">&nbsp\;</td> 			<td class="
 column-dokumente">&nbsp\;</td> 		</tr> 		<tr class="ebene1-3 original row-
 1 top-oeff-data"> 			<td class="column-topnrtext">3.</td> 			<td class="co
 lumn-bezeichnung">Wahl der Stellvertretung der Ortsvorsteherin / des Ortsv
 orstehers</td> 			<td class="column-nummer">&nbsp\;</td> 			<td class="col
 umn-dokumente">&nbsp\;</td> 		</tr> 		<tr class="ebene1-4 original row-0 t
 op-oeff-data"> 			<td class="column-topnrtext">4.</td> 			<td class="colum
 n-bezeichnung">Wahl der Schriftführung</td> 			<td class="column-nummer">
 &nbsp\;</td> 			<td class="column-dokumente">&nbsp\;</td> 		</tr> 		<tr cl
 ass="ebene1-5 original row-1 top-oeff-data"> 			<td class="column-topnrtex
 t">5.</td> 			<td class="column-bezeichnung">Wahl einer stellvertretenden 
 Schriftführung</td> 			<td class="column-nummer">&nbsp\;</td> 			<td clas
 s="column-dokumente">&nbsp\;</td> 		</tr> 		<tr class="ebene1-6 original r
 ow-0 top-oeff-data"> 			<td class="column-topnrtext">6.</td> 			<td class=
 "column-bezeichnung">Beratung Vorschlag Jagdgenossen</td> 			<td class="co
 lumn-nummer">&nbsp\;</td> 			<td class="column-dokumente">&nbsp\;</td> 		<
 /tr> 		<tr class="ebene1-7 original row-1 top-oeff-data"> 			<td class="co
 lumn-topnrtext">7.</td> 			<td class="column-bezeichnung">Termine 2026</td
 > 			<td class="column-nummer">&nbsp\;</td> 			<td class="column-dokumente
 ">&nbsp\;</td> 		</tr> 		<tr class="ebene1-8 original row-0 top-oeff-data"
 > 			<td class="column-topnrtext">8.</td> 			<td class="column-bezeichnung
 ">Verschiedenes</td> 		</tr> 	</tbody> </table>\n\n<p>Quelle:&nbsp\;<a hre
 f="https://rim.ekom21.de/homberg-efze/tops/?__=UGhVM0hpd2NXNFdFcExjZZRF1q9
 MnzPxD-pWidUZgoE">https://rim.ekom21.de/homberg-efze/tops/?__=UGhVM0hpd2NX
 NFdFcExjZZRF1q9MnzPxD-pWidUZgoE</a></p>
LOCATION:Dorfgemeinschaftshaus Sondheim 34576 Homberg (Efze) Besprechungsr
 aum
END:VEVENT
END:VCALENDAR
