BEGIN:VCALENDAR
VERSION:2.0
PRODID:-//TYPO3/NONSGML Calendarize//EN
BEGIN:VEVENT
UID:calendarize-ortsbeirat-relbehausen-1-sitzung
DTSTAMP:20260425T180853Z
DTSTART:20260420T153000Z
SUMMARY: Ortsbeirat Relbehausen\, 1. Sitzung
DESCRIPTION:Tagesordnungspunkte\n 	  	 		 			 			1. 			 			Begrüßung un
 d Feststellung der Ordnungsmäßigkeit der Einladung und der Beschlussfäh
 igkeit 			  			  		 		 			2. 			Wahl der Ortsvorsteherin / des Ortsvorst
 ehers 			  			  		 		 			3. 			Wahl der Stellvertretung der Ortsvorstehe
 rin / des Ortsvorstehers 			  			  		 		 			4. 			Wahl der Schriftführu
 ng 			  			  		 		 			5. 			ggf. Wahl einer stellvertretenden Schriftfü
 hrung 			  			  		 		 			6. 			Verschiedenes 			  			  		 	 \nQuelle: 
 https://rim.ekom21.de/homberg-efze/tops/?__=UGhVM0hpd2NXNFdFcExjZRyJtlbjQV
 eSLalR7ZmVYxU\n\n
X-ALT-DESC;FMTTYPE=text/html:<h2>Tagesordnungspunkte</h2>\n<table class="t
 able-cols-4 table-data table-top"> 	<caption class="caption">&nbsp\;</capt
 ion> 	<tbody> 		<tr class="ebene1-1 original row-1 top-oeff-data"> 			<td 
 class="column-topnrtext"> 			<p>1.</p> 			</td> 			<td class="column-bezei
 chnung">Begrüßung und Feststellung der Ordnungsmäßigkeit der Einladung
  und der Beschlussfähigkeit</td> 			<td class="column-nummer">&nbsp\;</td
 > 			<td class="column-dokumente">&nbsp\;</td> 		</tr> 		<tr class="ebene1
 -2 original row-0 top-oeff-data"> 			<td class="column-topnrtext">2.</td> 
 			<td class="column-bezeichnung">Wahl der Ortsvorsteherin / des Ortsvorst
 ehers</td> 			<td class="column-nummer">&nbsp\;</td> 			<td class="column-
 dokumente">&nbsp\;</td> 		</tr> 		<tr class="ebene1-3 original row-1 top-o
 eff-data"> 			<td class="column-topnrtext">3.</td> 			<td class="column-be
 zeichnung">Wahl der Stellvertretung der Ortsvorsteherin / des Ortsvorstehe
 rs</td> 			<td class="column-nummer">&nbsp\;</td> 			<td class="column-dok
 umente">&nbsp\;</td> 		</tr> 		<tr class="ebene1-4 original row-0 top-oeff
 -data"> 			<td class="column-topnrtext">4.</td> 			<td class="column-bezei
 chnung">Wahl der Schriftführung</td> 			<td class="column-nummer">&nbsp\;
 </td> 			<td class="column-dokumente">&nbsp\;</td> 		</tr> 		<tr class="eb
 ene1-5 original row-1 top-oeff-data"> 			<td class="column-topnrtext">5.</
 td> 			<td class="column-bezeichnung">ggf. Wahl einer stellvertretenden Sc
 hriftführung</td> 			<td class="column-nummer">&nbsp\;</td> 			<td class=
 "column-dokumente">&nbsp\;</td> 		</tr> 		<tr class="ebene1-6 original row
 -0 top-oeff-data"> 			<td class="column-topnrtext">6.</td> 			<td class="c
 olumn-bezeichnung">Verschiedenes</td> 			<td class="column-nummer">&nbsp\;
 </td> 			<td class="column-dokumente">&nbsp\;</td> 		</tr> 	</tbody> </tab
 le>\n<p>Quelle:&nbsp\;<a href="https://rim.ekom21.de/homberg-efze/tops/?__
 =UGhVM0hpd2NXNFdFcExjZRyJtlbjQVeSLalR7ZmVYxU">https://rim.ekom21.de/homber
 g-efze/tops/?__=UGhVM0hpd2NXNFdFcExjZRyJtlbjQVeSLalR7ZmVYxU</a></p>\n\n
LOCATION:
END:VEVENT
END:VCALENDAR
