BEGIN:VCALENDAR
VERSION:2.0
PRODID:-//TYPO3/NONSGML Calendarize//EN
BEGIN:VEVENT
UID:calendarize-ortsbeirat-muehlhausen-1-sitzung
DTSTAMP:20260425T180219Z
DTSTART:20260423T173000Z
SUMMARY: Ortsbeirat Mühlhausen\, 1. Sitzung
DESCRIPTION:Tagesordnung\n 	 		 			. 			Begrüßung und Feststellung der O
 rdnungsmäßigkeit der Einladung und der Beschlussfähigkeit 			  			  	
 	 		 			2. 			Wahl der Ortsvorsteherin / des Ortsvorstehers 			  			  		
  		 			3. 			Wahl der Stellvertretung der Ortsvorsteherin / des Ortsvorste
 hers 			  			  		 		 			4. 			Wahl der Schriftführerin/des Schriftführ
 ers 			  			  		 		 			5. 			Wahl der Stellvertretung der Schriftführer
 in/des Schriftführers 			  			  		 		 			6. 			Verschiedenes 		 	 \nQue
 lle: https://rim.ekom21.de/homberg-efze/tops/?__=UGhVM0hpd2NXNFdFcExjZQwM
 3pZ_gk2MTzTSuziWsMQ
X-ALT-DESC;FMTTYPE=text/html:<h1 class="heading">Tagesordnung</h1>\n<table
  class="table-cols-4 table-data table-top"> 	<tbody> 		<tr class="ebene1-1
  original row-1 top-oeff-data"> 			<td class="column-topnrtext">.</td> 			
 <td class="column-bezeichnung">Begrüßung und Feststellung der Ordnungsmä
 ßigkeit der Einladung und der Beschlussfähigkeit</td> 			<td class="colu
 mn-nummer">&nbsp\;</td> 			<td class="column-dokumente">&nbsp\;</td> 		</t
 r> 		<tr class="ebene1-2 original row-0 top-oeff-data"> 			<td class="colu
 mn-topnrtext">2.</td> 			<td class="column-bezeichnung">Wahl der Ortsvorst
 eherin / des Ortsvorstehers</td> 			<td class="column-nummer">&nbsp\;</td>
  			<td class="column-dokumente">&nbsp\;</td> 		</tr> 		<tr class="ebene1-
 3 original row-1 top-oeff-data"> 			<td class="column-topnrtext">3.</td> 	
 		<td class="column-bezeichnung">Wahl der Stellvertretung der Ortsvorstehe
 rin / des Ortsvorstehers</td> 			<td class="column-nummer">&nbsp\;</td> 		
 	<td class="column-dokumente">&nbsp\;</td> 		</tr> 		<tr class="ebene1-4 o
 riginal row-0 top-oeff-data"> 			<td class="column-topnrtext">4.</td> 			<
 td class="column-bezeichnung">Wahl der Schriftführerin/des Schriftführer
 s</td> 			<td class="column-nummer">&nbsp\;</td> 			<td class="column-doku
 mente">&nbsp\;</td> 		</tr> 		<tr class="ebene1-5 original row-1 top-oeff-
 data"> 			<td class="column-topnrtext">5.</td> 			<td class="column-bezeic
 hnung">Wahl der Stellvertretung der Schriftführerin/des Schriftführers</
 td> 			<td class="column-nummer">&nbsp\;</td> 			<td class="column-dokumen
 te">&nbsp\;</td> 		</tr> 		<tr class="ebene1-6 original row-0 top-oeff-dat
 a"> 			<td class="column-topnrtext">6.</td> 			<td class="column-bezeichnu
 ng">Verschiedenes</td> 		</tr> 	</tbody> </table>\n<p>Quelle:&nbsp\;<a hre
 f="https://rim.ekom21.de/homberg-efze/tops/?__=UGhVM0hpd2NXNFdFcExjZQwM3pZ
 _gk2MTzTSuziWsMQ">https://rim.ekom21.de/homberg-efze/tops/?__=UGhVM0hpd2NX
 NFdFcExjZQwM3pZ_gk2MTzTSuziWsMQ</a></p>
LOCATION:
END:VEVENT
END:VCALENDAR
