BEGIN:VCALENDAR
VERSION:2.0
PRODID:-//TYPO3/NONSGML Calendarize//EN
BEGIN:VEVENT
UID:calendarize-ortsbeirat-mardorf-1-sitzung
DTSTAMP:20260425T180432Z
DTSTART:20260429T153000Z
SUMMARY: Ortsbeirat Mardorf\, 1. Sitzung
DESCRIPTION:Tagesordnung\n 	 		 			1. 			Begrüßung und Feststellung der 
 Ordnungsmäßigkeit der Einladung und der Beschlussfähigkeit 			  			  
 		 		 			2. 			Wahl der Ortsvorsteherin / des Ortsvorstehers 			  			  	
 	 		 			3. 			Wahl der Stellvertretung der Ortsvorsteherin / des Ortsvorst
 ehers 			  			  		 		 			4. 			Wahl der Schriftführung 			  			  		 	
 	 			5. 			ggf. Wahl einer stellvertretenden Schriftführung 			  			  	
 	 		 			6. 			Aufgabenverteilung und Kommunikation Ortsbeiratsteam 			  	
 		  		 		 			7. 			Friedhofsstele 			  			  		 		 			8. 			Festivitäte
 n in Mardorf 			  			  		 		 			9. 			Dorfchronik 			  			  		 		 			1
 0. 			Austausch\, Anregungen\, Verschiedenes 		 	 \nQuelle: https://rim.e
 kom21.de/homberg-efze/tops/?__=UGhVM0hpd2NXNFdFcExjZa_5t3_lFJGjIcFE24NwbSg
X-ALT-DESC;FMTTYPE=text/html:<h1 class="heading">Tagesordnung</h1>\n<table
  class="table-cols-4 table-data table-top"> 	<tbody> 		<tr class="ebene1-1
  original row-1 top-oeff-data"> 			<td class="column-topnrtext">1.</td> 		
 	<td class="column-bezeichnung">Begrüßung und Feststellung der Ordnungsm
 äßigkeit der Einladung und der Beschlussfähigkeit</td> 			<td class="co
 lumn-nummer">&nbsp\;</td> 			<td class="column-dokumente">&nbsp\;</td> 		<
 /tr> 		<tr class="ebene1-2 original row-0 top-oeff-data"> 			<td class="co
 lumn-topnrtext">2.</td> 			<td class="column-bezeichnung">Wahl der Ortsvor
 steherin / des Ortsvorstehers</td> 			<td class="column-nummer">&nbsp\;</t
 d> 			<td class="column-dokumente">&nbsp\;</td> 		</tr> 		<tr class="ebene
 1-3 original row-1 top-oeff-data"> 			<td class="column-topnrtext">3.</td>
  			<td class="column-bezeichnung">Wahl der Stellvertretung der Ortsvorste
 herin / des Ortsvorstehers</td> 			<td class="column-nummer">&nbsp\;</td> 
 			<td class="column-dokumente">&nbsp\;</td> 		</tr> 		<tr class="ebene1-4
  original row-0 top-oeff-data"> 			<td class="column-topnrtext">4.</td> 		
 	<td class="column-bezeichnung">Wahl der Schriftführung</td> 			<td class
 ="column-nummer">&nbsp\;</td> 			<td class="column-dokumente">&nbsp\;</td>
  		</tr> 		<tr class="ebene1-5 original row-1 top-oeff-data"> 			<td class
 ="column-topnrtext">5.</td> 			<td class="column-bezeichnung">ggf. Wahl ei
 ner stellvertretenden Schriftführung</td> 			<td class="column-nummer">&n
 bsp\;</td> 			<td class="column-dokumente">&nbsp\;</td> 		</tr> 		<tr clas
 s="ebene1-6 original row-0 top-oeff-data"> 			<td class="column-topnrtext"
 >6.</td> 			<td class="column-bezeichnung">Aufgabenverteilung und Kommunik
 ation Ortsbeiratsteam</td> 			<td class="column-nummer">&nbsp\;</td> 			<t
 d class="column-dokumente">&nbsp\;</td> 		</tr> 		<tr class="ebene1-7 orig
 inal row-1 top-oeff-data"> 			<td class="column-topnrtext">7.</td> 			<td 
 class="column-bezeichnung">Friedhofsstele</td> 			<td class="column-nummer
 ">&nbsp\;</td> 			<td class="column-dokumente">&nbsp\;</td> 		</tr> 		<tr 
 class="ebene1-8 original row-0 top-oeff-data"> 			<td class="column-topnrt
 ext">8.</td> 			<td class="column-bezeichnung">Festivitäten in Mardorf</t
 d> 			<td class="column-nummer">&nbsp\;</td> 			<td class="column-dokument
 e">&nbsp\;</td> 		</tr> 		<tr class="ebene1-9 original row-1 top-oeff-data
 "> 			<td class="column-topnrtext">9.</td> 			<td class="column-bezeichnun
 g">Dorfchronik</td> 			<td class="column-nummer">&nbsp\;</td> 			<td class
 ="column-dokumente">&nbsp\;</td> 		</tr> 		<tr class="ebene1-10 original r
 ow-0 top-oeff-data"> 			<td class="column-topnrtext">10.</td> 			<td class
 ="column-bezeichnung">Austausch\, Anregungen\, Verschiedenes</td> 		</tr> 
 	</tbody> </table>\n<p>Quelle:&nbsp\;<a href="https://rim.ekom21.de/homber
 g-efze/tops/?__=UGhVM0hpd2NXNFdFcExjZa_5t3_lFJGjIcFE24NwbSg">https://rim.e
 kom21.de/homberg-efze/tops/?__=UGhVM0hpd2NXNFdFcExjZa_5t3_lFJGjIcFE24NwbSg
 </a></p>
LOCATION:
END:VEVENT
END:VCALENDAR
