BEGIN:VCALENDAR
VERSION:2.0
PRODID:-//TYPO3/NONSGML Calendarize//EN
BEGIN:VEVENT
UID:calendarize-ortsbeirat-lembach-1-sitzung
DTSTAMP:20260425T180434Z
DTSTART:20260421T170000Z
SUMMARY: Ortsbeirat Lembach\, 1. Sitzung
DESCRIPTION:Tagesordnung\n 	 		 			. 			Begrüßung und Feststellung der O
 rdnungsmäßigkeit der Einladung und der Beschlussfähigkeit 			  			  	
 	 		 			2. 			Wahl der Ortsvorsteherin / des Ortsvorstehers 			  			  		
  		 			3. 			Wahl der Stellvertretung der Ortsvorsteherin / des Ortsvorste
 hers 			  			  		 		 			4. 			Wahl der Schriftführung 			  			  		 		
  			5. 			ggf. Wahl einer stellvertretenden Schriftführung 			  			  		
  		 			6. 			Verschiedenes 		 	 \n\nQuelle: https://rim.ekom21.de/homberg
 -efze/tops/?__=UGhVM0hpd2NXNFdFcExjZXjbGHNL7SY-rp_JjwqCG5M
X-ALT-DESC;FMTTYPE=text/html:<h1 class="heading">Tagesordnung</h1>\n<table
  class="table-cols-4 table-data table-top"> 	<tbody> 		<tr class="ebene1-1
  original row-1 top-oeff-data"> 			<td class="column-topnrtext">.</td> 			
 <td class="column-bezeichnung">Begrüßung und Feststellung der Ordnungsmä
 ßigkeit der Einladung und der Beschlussfähigkeit</td> 			<td class="colu
 mn-nummer">&nbsp\;</td> 			<td class="column-dokumente">&nbsp\;</td> 		</t
 r> 		<tr class="ebene1-2 original row-0 top-oeff-data"> 			<td class="colu
 mn-topnrtext">2.</td> 			<td class="column-bezeichnung">Wahl der Ortsvorst
 eherin / des Ortsvorstehers</td> 			<td class="column-nummer">&nbsp\;</td>
  			<td class="column-dokumente">&nbsp\;</td> 		</tr> 		<tr class="ebene1-
 3 original row-1 top-oeff-data"> 			<td class="column-topnrtext">3.</td> 	
 		<td class="column-bezeichnung">Wahl der Stellvertretung der Ortsvorstehe
 rin / des Ortsvorstehers</td> 			<td class="column-nummer">&nbsp\;</td> 		
 	<td class="column-dokumente">&nbsp\;</td> 		</tr> 		<tr class="ebene1-4 o
 riginal row-0 top-oeff-data"> 			<td class="column-topnrtext">4.</td> 			<
 td class="column-bezeichnung">Wahl der Schriftführung</td> 			<td class="
 column-nummer">&nbsp\;</td> 			<td class="column-dokumente">&nbsp\;</td> 	
 	</tr> 		<tr class="ebene1-5 original row-1 top-oeff-data"> 			<td class="
 column-topnrtext">5.</td> 			<td class="column-bezeichnung">ggf. Wahl eine
 r stellvertretenden Schriftführung</td> 			<td class="column-nummer">&nbs
 p\;</td> 			<td class="column-dokumente">&nbsp\;</td> 		</tr> 		<tr class=
 "ebene1-6 original row-0 top-oeff-data"> 			<td class="column-topnrtext">6
 .</td> 			<td class="column-bezeichnung">Verschiedenes</td> 		</tr> 	</tbo
 dy> </table>\n\n<p>Quelle:&nbsp\;<a href="https://rim.ekom21.de/homberg-ef
 ze/tops/?__=UGhVM0hpd2NXNFdFcExjZXjbGHNL7SY-rp_JjwqCG5M">https://rim.ekom2
 1.de/homberg-efze/tops/?__=UGhVM0hpd2NXNFdFcExjZXjbGHNL7SY-rp_JjwqCG5M</a>
 </p>
LOCATION:
END:VEVENT
END:VCALENDAR
