BEGIN:VCALENDAR
VERSION:2.0
PRODID:-//TYPO3/NONSGML Calendarize//EN
BEGIN:VEVENT
UID:calendarize-ortsbeirat-hombergshausen-1-sitzung-1
DTSTAMP:20260425T180249Z
DTSTART:20260429T173000Z
SUMMARY: Ortsbeirat Hombergshausen\, 1. Sitzung
DESCRIPTION:Tagesordnung\n 	 		 			1. 			Begrüßung und Feststellung der 
 Ordnungsmäßigkeit der Einladung und der Beschlussfähigkeit 			  			  
 		 		 			2. 			Wahl des Ortsvorstehers 			  			  		 		 			3. 			Wahl der
  Stellvertretung des Ortsvorstehers 			  			  		 		 			4. 			Wahl der Sc
 hriftführung 			  			  		 		 			5. 			Verschiedenes 		 	 \nQuelle: htt
 ps://rim.ekom21.de/homberg-efze/tops/?__=UGhVM0hpd2NXNFdFcExjZfo6Mb-8kXPaq
 -7hoCjSNuU
X-ALT-DESC;FMTTYPE=text/html:<h1 class="heading">Tagesordnung</h1>\n<table
  class="table-cols-4 table-data table-top"> 	<tbody> 		<tr class="ebene1-1
  original row-1 top-oeff-data"> 			<td class="column-topnrtext">1.</td> 		
 	<td class="column-bezeichnung">Begrüßung und Feststellung der Ordnungsm
 äßigkeit der Einladung und der Beschlussfähigkeit</td> 			<td class="co
 lumn-nummer">&nbsp\;</td> 			<td class="column-dokumente">&nbsp\;</td> 		<
 /tr> 		<tr class="ebene1-2 original row-0 top-oeff-data"> 			<td class="co
 lumn-topnrtext">2.</td> 			<td class="column-bezeichnung">Wahl des Ortsvor
 stehers</td> 			<td class="column-nummer">&nbsp\;</td> 			<td class="colum
 n-dokumente">&nbsp\;</td> 		</tr> 		<tr class="ebene1-3 original row-1 top
 -oeff-data"> 			<td class="column-topnrtext">3.</td> 			<td class="column-
 bezeichnung">Wahl der Stellvertretung des Ortsvorstehers</td> 			<td class
 ="column-nummer">&nbsp\;</td> 			<td class="column-dokumente">&nbsp\;</td>
  		</tr> 		<tr class="ebene1-4 original row-0 top-oeff-data"> 			<td class
 ="column-topnrtext">4.</td> 			<td class="column-bezeichnung">Wahl der Sch
 riftführung</td> 			<td class="column-nummer">&nbsp\;</td> 			<td class="
 column-dokumente">&nbsp\;</td> 		</tr> 		<tr class="ebene1-5 original row-
 1 top-oeff-data"> 			<td class="column-topnrtext">5.</td> 			<td class="co
 lumn-bezeichnung">Verschiedenes</td> 		</tr> 	</tbody> </table>\n<p>Quelle
 :&nbsp\;<a href="https://rim.ekom21.de/homberg-efze/tops/?__=UGhVM0hpd2NXN
 FdFcExjZfo6Mb-8kXPaq-7hoCjSNuU">https://rim.ekom21.de/homberg-efze/tops/?_
 _=UGhVM0hpd2NXNFdFcExjZfo6Mb-8kXPaq-7hoCjSNuU</a></p>
LOCATION:
END:VEVENT
END:VCALENDAR
