BEGIN:VCALENDAR
VERSION:2.0
PRODID:-//TYPO3/NONSGML Calendarize//EN
BEGIN:VEVENT
UID:calendarize-ortsbeirat-holzhausen-1-sitzung
DTSTAMP:20260425T180859Z
DTSTART:20260430T173000Z
SUMMARY: Ortsbeirat Holzhausen\, 1. Sitzung
DESCRIPTION:Tagesordnung\n 	 		 			1. 			Begrüßung 			  			  		 		 			
 2. 			Feststellung der Ordnungsmäßigkeit der Einladung und Beschlussfäh
 igkeit 			  			  		 		 			3. 			Wahl der Ortsvorsteherin/ des Ortsvorste
 hers 			  			  		 		 			4. 			Wahl der stellvertretenden Ortsvorsteherin
 / Ortsvorstehers 			  			  		 		 			5. 			Wahl der Schriftführung 			 
  			  		 		 			6. 			Wahl der stellvertr. Schriftführung 			  			  		 
 		 			7. 			Verabschiedung der ausscheidenden Ortsbeiratsmitglieder 			  
 			  		 		 			8. 			Anschaffung eines Defibrillators – Kostenbeteiligun
 g aus Investitionsmitteln 			  			  		 		 			9. 			Kirmes in Holzhausen 
 			  			  		 		 			10. 			Verschiedenes 		 	 \nQuelle: https://rim.ekom
 21.de/homberg-efze/tops/?__=UGhVM0hpd2NXNFdFcExjZRANFSSVxMcr_rxwYGfONTE
X-ALT-DESC;FMTTYPE=text/html:<h1 class="heading">Tagesordnung</h1>\n<table
  class="table-cols-4 table-data table-top"> 	<tbody> 		<tr class="ebene1-1
  original row-1 top-oeff-data"> 			<td class="column-topnrtext">1.</td> 		
 	<td class="column-bezeichnung">Begrüßung</td> 			<td class="column-numm
 er">&nbsp\;</td> 			<td class="column-dokumente">&nbsp\;</td> 		</tr> 		<t
 r class="ebene1-2 original row-0 top-oeff-data"> 			<td class="column-topn
 rtext">2.</td> 			<td class="column-bezeichnung">Feststellung der Ordnungs
 mäßigkeit der Einladung und Beschlussfähigkeit</td> 			<td class="colum
 n-nummer">&nbsp\;</td> 			<td class="column-dokumente">&nbsp\;</td> 		</tr
 > 		<tr class="ebene1-3 original row-1 top-oeff-data"> 			<td class="colum
 n-topnrtext">3.</td> 			<td class="column-bezeichnung">Wahl der Ortsvorste
 herin/ des Ortsvorstehers</td> 			<td class="column-nummer">&nbsp\;</td> 	
 		<td class="column-dokumente">&nbsp\;</td> 		</tr> 		<tr class="ebene1-4 
 original row-0 top-oeff-data"> 			<td class="column-topnrtext">4.</td> 			
 <td class="column-bezeichnung">Wahl der stellvertretenden Ortsvorsteherin/
  Ortsvorstehers</td> 			<td class="column-nummer">&nbsp\;</td> 			<td clas
 s="column-dokumente">&nbsp\;</td> 		</tr> 		<tr class="ebene1-5 original r
 ow-1 top-oeff-data"> 			<td class="column-topnrtext">5.</td> 			<td class=
 "column-bezeichnung">Wahl der Schriftführung</td> 			<td class="column-nu
 mmer">&nbsp\;</td> 			<td class="column-dokumente">&nbsp\;</td> 		</tr> 		
 <tr class="ebene1-6 original row-0 top-oeff-data"> 			<td class="column-to
 pnrtext">6.</td> 			<td class="column-bezeichnung">Wahl der stellvertr. Sc
 hriftführung</td> 			<td class="column-nummer">&nbsp\;</td> 			<td class=
 "column-dokumente">&nbsp\;</td> 		</tr> 		<tr class="ebene1-7 original row
 -1 top-oeff-data"> 			<td class="column-topnrtext">7.</td> 			<td class="c
 olumn-bezeichnung">Verabschiedung der ausscheidenden Ortsbeiratsmitglieder
 </td> 			<td class="column-nummer">&nbsp\;</td> 			<td class="column-dokum
 ente">&nbsp\;</td> 		</tr> 		<tr class="ebene1-8 original row-0 top-oeff-d
 ata"> 			<td class="column-topnrtext">8.</td> 			<td class="column-bezeich
 nung">Anschaffung eines Defibrillators – Kostenbeteiligung aus Investiti
 onsmitteln</td> 			<td class="column-nummer">&nbsp\;</td> 			<td class="co
 lumn-dokumente">&nbsp\;</td> 		</tr> 		<tr class="ebene1-9 original row-1 
 top-oeff-data"> 			<td class="column-topnrtext">9.</td> 			<td class="colu
 mn-bezeichnung">Kirmes in Holzhausen</td> 			<td class="column-nummer">&nb
 sp\;</td> 			<td class="column-dokumente">&nbsp\;</td> 		</tr> 		<tr class
 ="ebene1-10 original row-0 top-oeff-data"> 			<td class="column-topnrtext"
 >10.</td> 			<td class="column-bezeichnung">Verschiedenes</td> 		</tr> 	</
 tbody> </table>\n<p>Quelle:&nbsp\;<a href="https://rim.ekom21.de/homberg-e
 fze/tops/?__=UGhVM0hpd2NXNFdFcExjZRANFSSVxMcr_rxwYGfONTE">https://rim.ekom
 21.de/homberg-efze/tops/?__=UGhVM0hpd2NXNFdFcExjZRANFSSVxMcr_rxwYGfONTE</a
 ></p>
LOCATION:Dorfgemeinschaftshaus Holzhausen 34576 Homberg (Efze) Besprechung
 sraum
END:VEVENT
END:VCALENDAR
