BEGIN:VCALENDAR
VERSION:2.0
PRODID:-//TYPO3/NONSGML Calendarize//EN
BEGIN:VEVENT
UID:calendarize-ortsbeirat-dickershausen-1-sitzung
DTSTAMP:20260425T180649Z
DTSTART:20260428T170000Z
SUMMARY: Ortsbeirat Dickershausen\, 1. Sitzung
DESCRIPTION:Tagesordnung\n 	 		 			. 			Begrüßung und Feststellung der O
 rdnungsmäßigkeit der Einladung 			  			  		 		 			2. 			Wahl der Ortsv
 orsteherin / des Ortsvorstehers 			  			  		 		 			3. 			Wahl der Stellv
 ertretung der Ortsvorsteherin / des Ortsvorstehers 			  			  		 		 			4.
  			Wahl der Schriftführung 			  			  		 		 			5. 			ggf. Wahl einer st
 ellvertretenden Schriftführung 			  			  		 		 			6. 			Verschiedenes 	
 	 	 \nQuelle: https://rim.ekom21.de/homberg-efze/tops/?__=UGhVM0hpd2NXNFd
 FcExjZcrecgzgxhGm4I6L2c9UKdI
X-ALT-DESC;FMTTYPE=text/html:<h1 class="heading">Tagesordnung</h1>\n<table
  class="table-cols-4 table-data table-top"> 	<tbody> 		<tr class="ebene1-1
  original row-1 top-oeff-data"> 			<td class="column-topnrtext">.</td> 			
 <td class="column-bezeichnung">Begrüßung und Feststellung der Ordnungsmä
 ßigkeit der Einladung</td> 			<td class="column-nummer">&nbsp\;</td> 			<
 td class="column-dokumente">&nbsp\;</td> 		</tr> 		<tr class="ebene1-2 ori
 ginal row-0 top-oeff-data"> 			<td class="column-topnrtext">2.</td> 			<td
  class="column-bezeichnung">Wahl der Ortsvorsteherin / des Ortsvorstehers<
 /td> 			<td class="column-nummer">&nbsp\;</td> 			<td class="column-dokume
 nte">&nbsp\;</td> 		</tr> 		<tr class="ebene1-3 original row-1 top-oeff-da
 ta"> 			<td class="column-topnrtext">3.</td> 			<td class="column-bezeichn
 ung">Wahl der Stellvertretung der Ortsvorsteherin / des Ortsvorstehers</td
 > 			<td class="column-nummer">&nbsp\;</td> 			<td class="column-dokumente
 ">&nbsp\;</td> 		</tr> 		<tr class="ebene1-4 original row-0 top-oeff-data"
 > 			<td class="column-topnrtext">4.</td> 			<td class="column-bezeichnung
 ">Wahl der Schriftführung</td> 			<td class="column-nummer">&nbsp\;</td> 
 			<td class="column-dokumente">&nbsp\;</td> 		</tr> 		<tr class="ebene1-5
  original row-1 top-oeff-data"> 			<td class="column-topnrtext">5.</td> 		
 	<td class="column-bezeichnung">ggf. Wahl einer stellvertretenden Schriftf
 ührung</td> 			<td class="column-nummer">&nbsp\;</td> 			<td class="colum
 n-dokumente">&nbsp\;</td> 		</tr> 		<tr class="ebene1-6 original row-0 top
 -oeff-data"> 			<td class="column-topnrtext">6.</td> 			<td class="column-
 bezeichnung">Verschiedenes</td> 		</tr> 	</tbody> </table>\n<p>Quelle:&nbs
 p\;<a href="https://rim.ekom21.de/homberg-efze/tops/?__=UGhVM0hpd2NXNFdFcE
 xjZcrecgzgxhGm4I6L2c9UKdI">https://rim.ekom21.de/homberg-efze/tops/?__=UGh
 VM0hpd2NXNFdFcExjZcrecgzgxhGm4I6L2c9UKdI</a></p>
LOCATION:
END:VEVENT
END:VCALENDAR
