BEGIN:VCALENDAR
VERSION:2.0
PRODID:-//TYPO3/NONSGML Calendarize//EN
BEGIN:VEVENT
UID:calendarize-ortsbeirat-cassdorf-1-sitzung
DTSTAMP:20260425T180433Z
DTSTART:20260423T160000Z
SUMMARY: Ortsbeirat Caßdorf\, 1. Sitzung
DESCRIPTION:Tagesordnung\n 	 		 			1. 			Begrüßung und Feststellung der 
 Ordnungsmäßigkeit der Einladung und der Beschlussfähigkeit 			  			  
 		 		 			2. 			Wahl der Ortsvorsteherin / des Ortsvorstehers 			  			  	
 	 		 			3. 			Wahl der Stellvertretung der Ortsvorsteherin / des Ortsvorst
 ehers 			  			  		 		 			4. 			Wahl der Schriftführung 			  			  		 	
 	 			5. 			Informationen/Sachstände Bauliche Projekte und Ortsverein 			 
  			  		 		 			6. 			Arbeitsdienste 			  			  		 		 			7. 			Verschiede
 nes 		 	 \n\nQuelle: https://rim.ekom21.de/homberg-efze/tops/?__=UGhVM0hp
 d2NXNFdFcExjZaJTPm_YC_J5UGKHNleAN-I
X-ALT-DESC;FMTTYPE=text/html:<h1 class="heading">Tagesordnung</h1>\n<table
  class="table-cols-4 table-data table-top"> 	<tbody> 		<tr class="ebene1-1
  original row-1 top-oeff-data"> 			<td class="column-topnrtext">1.</td> 		
 	<td class="column-bezeichnung">Begrüßung und Feststellung der Ordnungsm
 äßigkeit der Einladung und der Beschlussfähigkeit</td> 			<td class="co
 lumn-nummer">&nbsp\;</td> 			<td class="column-dokumente">&nbsp\;</td> 		<
 /tr> 		<tr class="ebene1-2 original row-0 top-oeff-data"> 			<td class="co
 lumn-topnrtext">2.</td> 			<td class="column-bezeichnung">Wahl der Ortsvor
 steherin / des Ortsvorstehers</td> 			<td class="column-nummer">&nbsp\;</t
 d> 			<td class="column-dokumente">&nbsp\;</td> 		</tr> 		<tr class="ebene
 1-3 original row-1 top-oeff-data"> 			<td class="column-topnrtext">3.</td>
  			<td class="column-bezeichnung">Wahl der Stellvertretung der Ortsvorste
 herin / des Ortsvorstehers</td> 			<td class="column-nummer">&nbsp\;</td> 
 			<td class="column-dokumente">&nbsp\;</td> 		</tr> 		<tr class="ebene1-4
  original row-0 top-oeff-data"> 			<td class="column-topnrtext">4.</td> 		
 	<td class="column-bezeichnung">Wahl der Schriftführung</td> 			<td class
 ="column-nummer">&nbsp\;</td> 			<td class="column-dokumente">&nbsp\;</td>
  		</tr> 		<tr class="ebene1-5 original row-1 top-oeff-data"> 			<td class
 ="column-topnrtext">5.</td> 			<td class="column-bezeichnung">Informatione
 n/Sachstände Bauliche Projekte und Ortsverein</td> 			<td class="column-n
 ummer">&nbsp\;</td> 			<td class="column-dokumente">&nbsp\;</td> 		</tr> 	
 	<tr class="ebene1-6 original row-0 top-oeff-data"> 			<td class="column-t
 opnrtext">6.</td> 			<td class="column-bezeichnung">Arbeitsdienste</td> 		
 	<td class="column-nummer">&nbsp\;</td> 			<td class="column-dokumente">&n
 bsp\;</td> 		</tr> 		<tr class="ebene1-7 original row-1 top-oeff-data"> 		
 	<td class="column-topnrtext">7.</td> 			<td class="column-bezeichnung">Ve
 rschiedenes</td> 		</tr> 	</tbody> </table>\n\n<p>Quelle:&nbsp\;<a href="h
 ttps://rim.ekom21.de/homberg-efze/tops/?__=UGhVM0hpd2NXNFdFcExjZaJTPm_YC_J
 5UGKHNleAN-I">https://rim.ekom21.de/homberg-efze/tops/?__=UGhVM0hpd2NXNFdF
 cExjZaJTPm_YC_J5UGKHNleAN-I</a></p>
LOCATION:
END:VEVENT
END:VCALENDAR
