BEGIN:VCALENDAR
VERSION:2.0
PRODID:-//TYPO3/NONSGML Calendarize//EN
BEGIN:VEVENT
UID:calendarize-ortsbeirat-allmuthshausen-1-sitzung
DTSTAMP:20260425T180311Z
DTSTART:20260420T170000Z
SUMMARY: Ortsbeirat Allmuthshausen\, 1. Sitzung
DESCRIPTION:Tagesordnungspunkte\n\n 	 		 			. 			Begrüßung und Feststell
 ung der Ordnungsmäßigkeit der Einladung und der Beschlussfähigkeit 			 
  			  		 		 			2. 			Wahl der Ortsvorsteherin / des Ortsvorstehers 			  
 			  		 		 			3. 			Wahl der Stellvertretung der Ortsvorsteherin / des Or
 tsvorstehers 			  			  		 		 			4. 			Wahl der Schriftführung 			  			
   		 		 			5. 			ggf. Wahl einer stellvertretenden Schriftführung 			  
 			  		 		 			6. 			Verschiedenes 		 	 \nQuelle: https://rim.ekom21.de/h
 omberg-efze/tops/?__=UGhVM0hpd2NXNFdFcExjZXJRHBKQK9n8VLJqSDaWd5M
X-ALT-DESC;FMTTYPE=text/html:<h2>Tagesordnungspunkte</h2>\n\n<table class=
 "table-cols-4 table-data table-top"> 	<tbody> 		<tr class="ebene1-1 origin
 al row-1 top-oeff-data"> 			<td class="column-topnrtext">.</td> 			<td cla
 ss="column-bezeichnung">Begrüßung und Feststellung der Ordnungsmäßigke
 it der Einladung und der Beschlussfähigkeit</td> 			<td class="column-num
 mer">&nbsp\;</td> 			<td class="column-dokumente">&nbsp\;</td> 		</tr> 		<
 tr class="ebene1-2 original row-0 top-oeff-data"> 			<td class="column-top
 nrtext">2.</td> 			<td class="column-bezeichnung">Wahl der Ortsvorsteherin
  / des Ortsvorstehers</td> 			<td class="column-nummer">&nbsp\;</td> 			<t
 d class="column-dokumente">&nbsp\;</td> 		</tr> 		<tr class="ebene1-3 orig
 inal row-1 top-oeff-data"> 			<td class="column-topnrtext">3.</td> 			<td 
 class="column-bezeichnung">Wahl der Stellvertretung der Ortsvorsteherin / 
 des Ortsvorstehers</td> 			<td class="column-nummer">&nbsp\;</td> 			<td c
 lass="column-dokumente">&nbsp\;</td> 		</tr> 		<tr class="ebene1-4 origina
 l row-0 top-oeff-data"> 			<td class="column-topnrtext">4.</td> 			<td cla
 ss="column-bezeichnung">Wahl der Schriftführung</td> 			<td class="column
 -nummer">&nbsp\;</td> 			<td class="column-dokumente">&nbsp\;</td> 		</tr>
  		<tr class="ebene1-5 original row-1 top-oeff-data"> 			<td class="column
 -topnrtext">5.</td> 			<td class="column-bezeichnung">ggf. Wahl einer stel
 lvertretenden Schriftführung</td> 			<td class="column-nummer">&nbsp\;</t
 d> 			<td class="column-dokumente">&nbsp\;</td> 		</tr> 		<tr class="ebene
 1-6 original row-0 top-oeff-data"> 			<td class="column-topnrtext">6.</td>
  			<td class="column-bezeichnung">Verschiedenes</td> 		</tr> 	</tbody> </
 table>\n<p>Quelle:&nbsp\;<a href="https://rim.ekom21.de/homberg-efze/tops/
 ?__=UGhVM0hpd2NXNFdFcExjZXJRHBKQK9n8VLJqSDaWd5M">https://rim.ekom21.de/hom
 berg-efze/tops/?__=UGhVM0hpd2NXNFdFcExjZXJRHBKQK9n8VLJqSDaWd5M</a></p>
LOCATION:
END:VEVENT
END:VCALENDAR
